BEGIN:VCALENDAR
VERSION:2.0
PRODID:-//Brochelle Vineyards - ECPv5.16.4//NONSGML v1.0//EN
CALSCALE:GREGORIAN
METHOD:PUBLISH
X-WR-CALNAME:Brochelle Vineyards
X-ORIGINAL-URL:https://brochelle.com
X-WR-CALDESC:Events for Brochelle Vineyards
BEGIN:VTIMEZONE
TZID:UTC
BEGIN:STANDARD
TZOFFSETFROM:+0000
TZOFFSETTO:+0000
TZNAME:UTC
DTSTART:20250101T000000
END:STANDARD
END:VTIMEZONE
BEGIN:VEVENT
DTSTART;VALUE=DATE:20251103
DTEND;VALUE=DATE:20251117
DTSTAMP:20260418T084054
CREATED:20250909T003554Z
LAST-MODIFIED:20251007T201042Z
UID:8741-1762128000-1763337599@brochelle.com
SUMMARY:FALL 2025 WINE CLUB DATES
DESCRIPTION:2025 Fall Wine Club Timeline \nMonday\, November 3rd – Wines will be shipped out. Please contact us if you need us to hold your wines until a later date! \nPick Up Weekend – November 14\, 15 & 16 \nFriday\, November 14th: Stop in any time from 11-5 pm to pick up your Fall wines! \nSaturday & Sunday\, November 15-16: Seated tasting alongside a food pairing. Limited seating available & reservations are required. Contact us for further details. \n  \n 
URL:https://brochelle.com/event/fall-2025-wine-club-dates/
LOCATION:Brochelle Tasting Lounge\, 2323 Tuley Rd\, Paso Robles\, CA\, 93446\, United States
GEO:35.6441151;-120.6561647
X-APPLE-STRUCTURED-LOCATION;VALUE=URI;X-ADDRESS=Brochelle Tasting Lounge 2323 Tuley Rd Paso Robles CA 93446 United States;X-APPLE-RADIUS=500;X-TITLE=2323 Tuley Rd:geo:-120.6561647,35.6441151
END:VEVENT
END:VCALENDAR