BEGIN:VCALENDAR
VERSION:2.0
PRODID:-//Brochelle Vineyards - ECPv5.16.4//NONSGML v1.0//EN
CALSCALE:GREGORIAN
METHOD:PUBLISH
X-WR-CALNAME:Brochelle Vineyards
X-ORIGINAL-URL:https://brochelle.com
X-WR-CALDESC:Events for Brochelle Vineyards
BEGIN:VTIMEZONE
TZID:UTC
BEGIN:STANDARD
TZOFFSETFROM:+0000
TZOFFSETTO:+0000
TZNAME:UTC
DTSTART:20250101T000000
END:STANDARD
END:VTIMEZONE
BEGIN:VEVENT
DTSTART;VALUE=DATE:20251018
DTEND;VALUE=DATE:20251019
DTSTAMP:20260420T072536
CREATED:20250926T210102Z
LAST-MODIFIED:20250926T214309Z
UID:8763-1760745600-1760831999@brochelle.com
SUMMARY:Harvest Weekend! Saturday\, October 18th
DESCRIPTION:Join us on Saturday\, October 18th for a fun filled day of live music & fun\, unique wine pairings!
URL:https://brochelle.com/event/harvest-weekend-saturday-october-18th/
END:VEVENT
END:VCALENDAR