BEGIN:VCALENDAR
VERSION:2.0
PRODID:-//Brochelle Vineyards - ECPv5.16.4//NONSGML v1.0//EN
CALSCALE:GREGORIAN
METHOD:PUBLISH
X-WR-CALNAME:Brochelle Vineyards
X-ORIGINAL-URL:https://brochelle.com
X-WR-CALDESC:Events for Brochelle Vineyards
BEGIN:VTIMEZONE
TZID:UTC
BEGIN:STANDARD
TZOFFSETFROM:+0000
TZOFFSETTO:+0000
TZNAME:UTC
DTSTART:20230101T000000
END:STANDARD
END:VTIMEZONE
BEGIN:VEVENT
DTSTART;TZID=UTC:20230923T170000
DTEND;TZID=UTC:20230923T220000
DTSTAMP:20260420T053429
CREATED:20230614T011357Z
LAST-MODIFIED:20230614T014937Z
UID:8452-1695488400-1695506400@brochelle.com
SUMMARY:Brochelle Vineyards 25th Anniversary Gala
DESCRIPTION:It is with great pleasure that we announce this special event\, as we have achieved another significant milestone – our 25th year in business – and would be so honored if you would be a part of our celebration.  You are formally invited you to our Silver Anniversary Gala & Winemakers Dinner on September 23rd. \nWe are hosting this special evening at Bella Terra Vineyard Estate\, a serene event venue nestled in the rolling hills of Paso. This is a Silver + Silver-Blue party\, so come dressed in one color or both to commemorate this special occasion.  **See Party Theme Palette below** \nWe will dine and dance under the stars – it is sure to be a most memorable evening! \nThe evening will be highlighted by a four-course gourmet dinner prepared by acclaimed local chef Charlie Paladin Wayne.  Brochelle wines will be expertly paired with each course.  This is an event not be missed!  We are looking forward to sharing the evening in this magical place with you all.  We have an exciting evening planned; and we hope you will join us in September!  Tickets are limited\, so reserve early. \n**INSTRUCTIONS: To reserve seats for this dinner\, simply go to our ONLINE STORE and add this item to your cart in the amount of people in your party.  To secure your reservation\, you must fully complete the check-out process\, and then your tickets will be confirmed and reserved.  A confirmation email is your proof of purchase. \n***Cancellations are non-refundable. \nEvent Tickets: $199/pp Club Member\, $225/Non-Club \nQuestions?  Contact Kerry @ 805.237.4410 x1 or email: kerry@brochelle.com \nHOTEL INFORMATION\nWe have set up special rates for you\, if you would like to take advantage of these offers\, please click on the link of the hotel below: \nLa Bellasera Hotel & Suites   15% off when you call to reserve (805) 238-2834 \nLa Quinta Inn & Suites – Use Promo Code: WINE10 for 10% off (805) 239-3004 \nThe Carlton Hotel\, Atascadero  – Use Promo Code: brochelle for 10% off  (805) 461-5100 \n \n  \n  \n 
URL:https://brochelle.com/event/brochelle-vineyards-25th-anniversary-gala/
LOCATION:Bella Terra Vineyard Estates\, 2850 Ranchita Canyon Rd\, San Miguel\, CA\, 93451\, United States
ORGANIZER;CN="Brochelle%20Vineyards":MAILTO:info@brochelle.com
GEO:35.7288041;-120.6047557
X-APPLE-STRUCTURED-LOCATION;VALUE=URI;X-ADDRESS=Bella Terra Vineyard Estates 2850 Ranchita Canyon Rd San Miguel CA 93451 United States;X-APPLE-RADIUS=500;X-TITLE=2850 Ranchita Canyon Rd:geo:-120.6047557,35.7288041
END:VEVENT
END:VCALENDAR