BEGIN:VCALENDAR
VERSION:2.0
PRODID:-//Brochelle Vineyards - ECPv5.16.4//NONSGML v1.0//EN
CALSCALE:GREGORIAN
METHOD:PUBLISH
X-WR-CALNAME:Brochelle Vineyards
X-ORIGINAL-URL:https://brochelle.com
X-WR-CALDESC:Events for Brochelle Vineyards
BEGIN:VTIMEZONE
TZID:UTC
BEGIN:STANDARD
TZOFFSETFROM:+0000
TZOFFSETTO:+0000
TZNAME:UTC
DTSTART:20230101T000000
END:STANDARD
END:VTIMEZONE
BEGIN:VEVENT
DTSTART;TZID=UTC:20231028T173000
DTEND;TZID=UTC:20231028T203000
DTSTAMP:20260420T035306
CREATED:20230929T232024Z
LAST-MODIFIED:20231001T204440Z
UID:8474-1698514200-1698525000@brochelle.com
SUMMARY:"Taste or Treat" Halloween Poker Run Wine & Candy Pairing event! 
DESCRIPTION:Join us at Vina Robles Vineyards & Winery for our Wineries of 46 East “Taste or Treat” Halloween Poker Run Wine & Candy Pairing event!  \nOctober 28th from 5:30pm-8:30pm  \nGeneral Admission: $45 \nDD/Non-Alcohol Ticket: $15 \nUpon arrival\, receive your Poker Run Passport and commemorative wine glass and stroll around to each station to be treated to 3 wine tastings\, paired with Halloween candy from each of our participating member wineries. Draw a playing card from each winery’s deck to build your best poker hand. Fabulous 46 East prizes will be going to the top 3 hands!  \nOur Designated Driver guests (DD’s) will receive a Passport to participate in the Poker Run and a commemorative wine glass to enjoy Stella Rosa non-alcoholic Sparkling and still juices from Riboli Family Winery!  \nLive Music provided by Route 66 \nLight charcuterie and desserts provided \nFood Truck available for purchase \n  \nCostume Contest – Hollywood Theme! Come dressed as your favorite Hollywood…anything!  \nBest Group Winner – VIP Tasting experience for 6 at a 46 East member winery \nBest Overall Costume Winner – 46 East package including hotel stay and gifts \n  \nCostumes optional but encouraged for extra fun! \n  \n*Tastings\, Music & Poker Run ends at 8pm \nCostume contest begins at 8pm \n  \nPoker Run Prizes: \n*Top three winners announced post-event: (All prizes will be shipped) \n1st place – 46 East Lodging stay & case of 46 East mixed wine \n2nd place – Case of 46 East mixed wine \n3rd place – 1/2 case of 46 East mixed wine
URL:https://brochelle.com/event/taste-or-treat-halloween-poker-run-wine-candy-pairing-event/
LOCATION:Vina Robles Vineyards & Winery\, 3700 Mill Rd\, Paso Robles\, 93446\, United States
GEO:35.6462671;-120.6305511
X-APPLE-STRUCTURED-LOCATION;VALUE=URI;X-ADDRESS=Vina Robles Vineyards & Winery 3700 Mill Rd Paso Robles 93446 United States;X-APPLE-RADIUS=500;X-TITLE=3700 Mill Rd:geo:-120.6305511,35.6462671
END:VEVENT
END:VCALENDAR