BEGIN:VCALENDAR
VERSION:2.0
PRODID:-//Brochelle Vineyards - ECPv5.16.4//NONSGML v1.0//EN
CALSCALE:GREGORIAN
METHOD:PUBLISH
X-WR-CALNAME:Brochelle Vineyards
X-ORIGINAL-URL:https://brochelle.com
X-WR-CALDESC:Events for Brochelle Vineyards
BEGIN:VTIMEZONE
TZID:UTC
BEGIN:STANDARD
TZOFFSETFROM:+0000
TZOFFSETTO:+0000
TZNAME:UTC
DTSTART:20240101T000000
END:STANDARD
END:VTIMEZONE
BEGIN:VEVENT
DTSTART;TZID=UTC:20240210T180000
DTEND;TZID=UTC:20240210T210000
DTSTAMP:20260419T225225
CREATED:20240124T205347Z
LAST-MODIFIED:20240124T205449Z
UID:8492-1707588000-1707598800@brochelle.com
SUMMARY:Brochelle Valentine's Winemaker Dinner
DESCRIPTION:A romantic evening awaits with this exclusive invite to Brochelle Vineyards wine club member \nWe’re pleased to extend a special invitation for an intimate Valentine’s Day Winemaker Dinner\, hosted by Brock and Michelle Waterman of Brochelle Vineyards.\nWe welcome you and your loved one to join us on Saturday\, February 10th\, for an evening of fine wines\, intimate dining experience in our barrel room and shared moments. \nSpaces are LIMITED for this event and tickets will go fast so book your spot with us today \nEvent Details: \nDate: Saturday\, February 10th\nTime: 6pm\nLocation: Brochelle Vineyards Tasting Room \nExperience Highlights: \nAn intimate ambiance designed for connection in our Barrel Room\nThoughtfully curated wine pairings by our skilled winemaker Brock Waterman\nCulinary excellence to delight your palate from Kellyco Catering \nMember Price: $175 per person \nWith limited spaces available\, we recommend securing your reservations promptly. Feel free to contact our tasting room to confirm your attendance. \n📞 To Reserve: Call 805-237-4410 \nWe look forward to hosting you for a delightful evening of good company\, great wine\, and memorable experiences. Your presence will certainly enhance the warmth of our gathering. \nWarmest regards\, \nBrock and Michelle Waterman & The Brochelle Vineyards Team
URL:https://brochelle.com/event/brochelle-valentines-winemaker-dinner/
LOCATION:Brochelle Tasting Lounge\, 2323 Tuley Rd\, Paso Robles\, CA\, 93446\, United States
ORGANIZER;CN="Brochelle%20Vineyards":MAILTO:info@brochelle.com
GEO:35.6441151;-120.6561647
X-APPLE-STRUCTURED-LOCATION;VALUE=URI;X-ADDRESS=Brochelle Tasting Lounge 2323 Tuley Rd Paso Robles CA 93446 United States;X-APPLE-RADIUS=500;X-TITLE=2323 Tuley Rd:geo:-120.6561647,35.6441151
END:VEVENT
END:VCALENDAR