BEGIN:VCALENDAR
VERSION:2.0
PRODID:-//Brochelle Vineyards - ECPv5.16.4//NONSGML v1.0//EN
CALSCALE:GREGORIAN
METHOD:PUBLISH
X-WR-CALNAME:Brochelle Vineyards
X-ORIGINAL-URL:https://brochelle.com
X-WR-CALDESC:Events for Brochelle Vineyards
BEGIN:VTIMEZONE
TZID:UTC
BEGIN:STANDARD
TZOFFSETFROM:+0000
TZOFFSETTO:+0000
TZNAME:UTC
DTSTART:20240101T000000
END:STANDARD
END:VTIMEZONE
BEGIN:VEVENT
DTSTART;TZID=UTC:20240305T163000
DTEND;TZID=UTC:20240305T180000
DTSTAMP:20260419T214251
CREATED:20240301T202150Z
LAST-MODIFIED:20240301T202219Z
UID:8505-1709656200-1709661600@brochelle.com
SUMMARY:"At Her Table" Live Cooking Show
DESCRIPTION:  \nBrochelle Vineyards is pleased to be a part of this years “At Her Table\,” a spectacular event celebrating the remarkable achievements of professional women in the hospitality industry. As a women-owned business ourselves\, we are honored to be part of this empowering occasion and to support fellow women in the local Paso Robles community. We will be participating at the Live Cooking Show on March 5th treating guests to a feast for the senses\, with dishes crafted with precision with Brochelle wine pairings that elevate every sip\, prepare to be enchanted by the mastery of these remarkable women. As we raise our glasses to toast to the accomplishments of women in the industry\, Brochelle Vineyards invites you to join us in celebrating the diverse talents and contributions of women in hospitality. Together\, let us savor the flavors of success and solidarity at “At Her Table.” \n  \nTickets for the Live Cooking Show are on sale now! https://my805tix.com/e/central-coast-cooking-show-aht
URL:https://brochelle.com/event/at-her-table-live-cooking-show/
LOCATION:2361 Theatre Dr\, Paso Robles\, CA 93446\, 2361 Theatre Dr\, Paso Robles\, CA 93446
ORGANIZER;CN="Brochelle%20Vineyards":MAILTO:info@brochelle.com
GEO:35.5827858;-120.6984383
X-APPLE-STRUCTURED-LOCATION;VALUE=URI;X-ADDRESS=2361 Theatre Dr Paso Robles CA 93446 2361 Theatre Dr Paso Robles CA 93446;X-APPLE-RADIUS=500;X-TITLE=2361 Theatre Dr\, Paso Robles\, CA 93446:geo:-120.6984383,35.5827858
END:VEVENT
END:VCALENDAR