BEGIN:VCALENDAR
VERSION:2.0
PRODID:-//Brochelle Vineyards - ECPv5.16.4//NONSGML v1.0//EN
CALSCALE:GREGORIAN
METHOD:PUBLISH
X-WR-CALNAME:Brochelle Vineyards
X-ORIGINAL-URL:https://brochelle.com
X-WR-CALDESC:Events for Brochelle Vineyards
BEGIN:VTIMEZONE
TZID:UTC
BEGIN:STANDARD
TZOFFSETFROM:+0000
TZOFFSETTO:+0000
TZNAME:UTC
DTSTART:20240101T000000
END:STANDARD
END:VTIMEZONE
BEGIN:VEVENT
DTSTART;TZID=UTC:20240317T110000
DTEND;TZID=UTC:20240317T170000
DTSTAMP:20260419T212338
CREATED:20240227T211029Z
LAST-MODIFIED:20240228T213546Z
UID:8497-1710673200-1710694800@brochelle.com
SUMMARY:Brochelle Vineyards ZIN FEST 2024
DESCRIPTION:  \nAttention All Zin Lovers!  Join us as we celebrate ZIN FEST 2024! \nThis is our favorite time of year when we celebrate the beginning of spring here in Paso and the annual release of our NEW vintage of Zinfandel. All weekend long we will be introducing our flagship wine – Zinfandel. We will be pairing our 2022 Estate Zinfandel with award-winning paella from Jeffry’s Wine Country BBQ. \nCome share this special time of year with us – we look forward to seeing you in our tasting lounge. \nParings start at $20; we will also have charcutier and sweets options available. \nLook forward to raising a glass of Brochelle Zinfandel with you!
URL:https://brochelle.com/event/brochelle-vineyards-zin-fest-2024/
LOCATION:Brochelle Tasting Lounge\, 2323 Tuley Rd\, Paso Robles\, CA\, 93446\, United States
ORGANIZER;CN="Brochelle%20Vineyards":MAILTO:info@brochelle.com
GEO:35.6441151;-120.6561647
X-APPLE-STRUCTURED-LOCATION;VALUE=URI;X-ADDRESS=Brochelle Tasting Lounge 2323 Tuley Rd Paso Robles CA 93446 United States;X-APPLE-RADIUS=500;X-TITLE=2323 Tuley Rd:geo:-120.6561647,35.6441151
END:VEVENT
END:VCALENDAR