BEGIN:VCALENDAR
VERSION:2.0
PRODID:-//Brochelle Vineyards - ECPv5.16.4//NONSGML v1.0//EN
CALSCALE:GREGORIAN
METHOD:PUBLISH
X-WR-CALNAME:Brochelle Vineyards
X-ORIGINAL-URL:https://brochelle.com
X-WR-CALDESC:Events for Brochelle Vineyards
BEGIN:VTIMEZONE
TZID:UTC
BEGIN:STANDARD
TZOFFSETFROM:+0000
TZOFFSETTO:+0000
TZNAME:UTC
DTSTART:20240101T000000
END:STANDARD
END:VTIMEZONE
BEGIN:VEVENT
DTSTART;TZID=UTC:20240505T120000
DTEND;TZID=UTC:20240505T150000
DTSTAMP:20260419T184931
CREATED:20240322T210942Z
LAST-MODIFIED:20240401T173646Z
UID:8511-1714910400-1714921200@brochelle.com
SUMMARY:BROCHELLE VINEYARDS 2024 SPRING PICK UP PARTY!
DESCRIPTION:You’re Invited to Brochelle Vineyard’s Spring Pick up Party! \nDate: Sunday\, May 5th – Cinco De Mayo! \nTime: 12:00 PM – 3:00 PM \nPlease RSVP early to secure your spot\, entry for Club Members are FREE but tickets are required \nTickets are available for $25 for any friends and family you would like to bring along with you! \nTickets are limited and are available online starting April 1st!  \nAs always\, the secret ingredient is always LOVE. 🧡
URL:https://brochelle.com/event/brochelle-vineyards-2024-spring-pick-up-party/
LOCATION:Brochelle Tasting Lounge\, 2323 Tuley Rd\, Paso Robles\, CA\, 93446\, United States
GEO:35.6441151;-120.6561647
X-APPLE-STRUCTURED-LOCATION;VALUE=URI;X-ADDRESS=Brochelle Tasting Lounge 2323 Tuley Rd Paso Robles CA 93446 United States;X-APPLE-RADIUS=500;X-TITLE=2323 Tuley Rd:geo:-120.6561647,35.6441151
END:VEVENT
END:VCALENDAR